BEGIN:VCALENDAR
VERSION:2.0
PRODID:-//Museu CORA CORALINA - ECPv6.15.20//NONSGML v1.0//EN
CALSCALE:GREGORIAN
METHOD:PUBLISH
X-ORIGINAL-URL:https://www.museucoracoralina.com.br/site
X-WR-CALDESC:Events for Museu CORA CORALINA
REFRESH-INTERVAL;VALUE=DURATION:PT1H
X-Robots-Tag:noindex
X-PUBLISHED-TTL:PT1H
BEGIN:VTIMEZONE
TZID:UTC
BEGIN:STANDARD
TZOFFSETFROM:+0000
TZOFFSETTO:+0000
TZNAME:UTC
DTSTART:20240101T000000
END:STANDARD
END:VTIMEZONE
BEGIN:VEVENT
DTSTART;TZID=UTC:20250111T213000
DTEND;TZID=UTC:20250111T213000
DTSTAMP:20260421T205813
CREATED:20250519T141700Z
LAST-MODIFIED:20250519T141825Z
UID:919-1736631000-1736631000@www.museucoracoralina.com.br
SUMMARY:Serenata 2025
DESCRIPTION:Depois de muitos pedidos\, aqui está o calendário anual das serenatas de 2025! Se programem e participem conosco. A serenata é de idealização do Museu Casa de Cora Coralina e conta com o apoio do Instituto Biap; Santuário do Rosário; PatriMônio: cultura e ambiente; Rádio Nova Fogaréu; Venerável Irmandade do Senhor Bom Jesus dos Passos e Organização Vilaboense de Artes e Tradições – OVAT. \nCuradoria da serenata: @marlene_vellasco\nFoto: @patmousinho\nDesign artístico: @patmousinho
URL:https://www.museucoracoralina.com.br/site/programacao2/serenata-2025-9/
END:VEVENT
BEGIN:VEVENT
DTSTART;TZID=UTC:20250215T213000
DTEND;TZID=UTC:20250215T213000
DTSTAMP:20260421T205813
CREATED:20250519T141720Z
LAST-MODIFIED:20250519T141818Z
UID:920-1739655000-1739655000@www.museucoracoralina.com.br
SUMMARY:Serenata 2025
DESCRIPTION:Depois de muitos pedidos\, aqui está o calendário anual das serenatas de 2025! Se programem e participem conosco. A serenata é de idealização do Museu Casa de Cora Coralina e conta com o apoio do Instituto Biap; Santuário do Rosário; PatriMônio: cultura e ambiente; Rádio Nova Fogaréu; Venerável Irmandade do Senhor Bom Jesus dos Passos e Organização Vilaboense de Artes e Tradições – OVAT. \nCuradoria da serenata: @marlene_vellasco\nFoto: @patmousinho\nDesign artístico: @patmousinho
URL:https://www.museucoracoralina.com.br/site/programacao2/serenata-2025-10/
END:VEVENT
BEGIN:VEVENT
DTSTART;TZID=UTC:20250315T213000
DTEND;TZID=UTC:20250315T213000
DTSTAMP:20260421T205813
CREATED:20250519T141739Z
LAST-MODIFIED:20250519T141814Z
UID:921-1742074200-1742074200@www.museucoracoralina.com.br
SUMMARY:Serenata 2025
DESCRIPTION:Depois de muitos pedidos\, aqui está o calendário anual das serenatas de 2025! Se programem e participem conosco. A serenata é de idealização do Museu Casa de Cora Coralina e conta com o apoio do Instituto Biap; Santuário do Rosário; PatriMônio: cultura e ambiente; Rádio Nova Fogaréu; Venerável Irmandade do Senhor Bom Jesus dos Passos e Organização Vilaboense de Artes e Tradições – OVAT. \nCuradoria da serenata: @marlene_vellasco\nFoto: @patmousinho\nDesign artístico: @patmousinho
URL:https://www.museucoracoralina.com.br/site/programacao2/serenata-2025-11/
END:VEVENT
BEGIN:VEVENT
DTSTART;TZID=UTC:20250412T213000
DTEND;TZID=UTC:20250412T213000
DTSTAMP:20260421T205813
CREATED:20250519T141757Z
LAST-MODIFIED:20250519T141809Z
UID:922-1744493400-1744493400@www.museucoracoralina.com.br
SUMMARY:Serenata 2025
DESCRIPTION:Depois de muitos pedidos\, aqui está o calendário anual das serenatas de 2025! Se programem e participem conosco. A serenata é de idealização do Museu Casa de Cora Coralina e conta com o apoio do Instituto Biap; Santuário do Rosário; PatriMônio: cultura e ambiente; Rádio Nova Fogaréu; Venerável Irmandade do Senhor Bom Jesus dos Passos e Organização Vilaboense de Artes e Tradições – OVAT. \nCuradoria da serenata: @marlene_vellasco\nFoto: @patmousinho\nDesign artístico: @patmousinho
URL:https://www.museucoracoralina.com.br/site/programacao2/serenata-2025-12/
END:VEVENT
BEGIN:VEVENT
DTSTART;TZID=UTC:20250510T213000
DTEND;TZID=UTC:20250510T213000
DTSTAMP:20260421T205813
CREATED:20250519T140808Z
LAST-MODIFIED:20250519T141534Z
UID:904-1746912600-1746912600@www.museucoracoralina.com.br
SUMMARY:Serenata 2025
DESCRIPTION:Depois de muitos pedidos\, aqui está o calendário anual das serenatas de 2025! Se programem e participem conosco. A serenata é de idealização do Museu Casa de Cora Coralina e conta com o apoio do Instituto Biap; Santuário do Rosário; PatriMônio: cultura e ambiente; Rádio Nova Fogaréu; Venerável Irmandade do Senhor Bom Jesus dos Passos e Organização Vilaboense de Artes e Tradições – OVAT. \nCuradoria da serenata: @marlene_vellasco\nFoto: @patmousinho\nDesign artístico: @patmousinho
URL:https://www.museucoracoralina.com.br/site/programacao2/serenata-2025-2/
END:VEVENT
BEGIN:VEVENT
DTSTART;TZID=UTC:20250614T213000
DTEND;TZID=UTC:20250614T213000
DTSTAMP:20260421T205813
CREATED:20250519T135937Z
LAST-MODIFIED:20250519T140707Z
UID:897-1749936600-1749936600@www.museucoracoralina.com.br
SUMMARY:Serenata 2025
DESCRIPTION:Depois de muitos pedidos\, aqui está o calendário anual das serenatas de 2025! Se programem e participem conosco. A serenata é de idealização do Museu Casa de Cora Coralina e conta com o apoio do Instituto Biap; Santuário do Rosário; PatriMônio: cultura e ambiente; Rádio Nova Fogaréu; Venerável Irmandade do Senhor Bom Jesus dos Passos e Organização Vilaboense de Artes e Tradições – OVAT. \nCuradoria da serenata: @marlene_vellasco\nFoto: @patmousinho\nDesign artístico: @patmousinho
URL:https://www.museucoracoralina.com.br/site/programacao2/serenata-2025/
END:VEVENT
BEGIN:VEVENT
DTSTART;TZID=UTC:20250712T213000
DTEND;TZID=UTC:20250712T213000
DTSTAMP:20260421T205813
CREATED:20250519T141003Z
LAST-MODIFIED:20250519T141539Z
UID:906-1752355800-1752355800@www.museucoracoralina.com.br
SUMMARY:Serenata 2025
DESCRIPTION:Depois de muitos pedidos\, aqui está o calendário anual das serenatas de 2025! Se programem e participem conosco. A serenata é de idealização do Museu Casa de Cora Coralina e conta com o apoio do Instituto Biap; Santuário do Rosário; PatriMônio: cultura e ambiente; Rádio Nova Fogaréu; Venerável Irmandade do Senhor Bom Jesus dos Passos e Organização Vilaboense de Artes e Tradições – OVAT. \nCuradoria da serenata: @marlene_vellasco\nFoto: @patmousinho\nDesign artístico: @patmousinho
URL:https://www.museucoracoralina.com.br/site/programacao2/serenata-2025-3/
END:VEVENT
BEGIN:VEVENT
DTSTART;TZID=UTC:20250809T213000
DTEND;TZID=UTC:20250809T213000
DTSTAMP:20260421T205813
CREATED:20250519T141047Z
LAST-MODIFIED:20250519T141602Z
UID:908-1754775000-1754775000@www.museucoracoralina.com.br
SUMMARY:Serenata 2025
DESCRIPTION:Depois de muitos pedidos\, aqui está o calendário anual das serenatas de 2025! Se programem e participem conosco. A serenata é de idealização do Museu Casa de Cora Coralina e conta com o apoio do Instituto Biap; Santuário do Rosário; PatriMônio: cultura e ambiente; Rádio Nova Fogaréu; Venerável Irmandade do Senhor Bom Jesus dos Passos e Organização Vilaboense de Artes e Tradições – OVAT. \nCuradoria da serenata: @marlene_vellasco\nFoto: @patmousinho\nDesign artístico: @patmousinho
URL:https://www.museucoracoralina.com.br/site/programacao2/serenata-2025-4/
END:VEVENT
BEGIN:VEVENT
DTSTART;TZID=UTC:20250906T213000
DTEND;TZID=UTC:20250906T213000
DTSTAMP:20260421T205813
CREATED:20250519T141228Z
LAST-MODIFIED:20250519T141542Z
UID:910-1757194200-1757194200@www.museucoracoralina.com.br
SUMMARY:Serenata 2025
DESCRIPTION:Depois de muitos pedidos\, aqui está o calendário anual das serenatas de 2025! Se programem e participem conosco. A serenata é de idealização do Museu Casa de Cora Coralina e conta com o apoio do Instituto Biap; Santuário do Rosário; PatriMônio: cultura e ambiente; Rádio Nova Fogaréu; Venerável Irmandade do Senhor Bom Jesus dos Passos e Organização Vilaboense de Artes e Tradições – OVAT. \nCuradoria da serenata: @marlene_vellasco\nFoto: @patmousinho\nDesign artístico: @patmousinho
URL:https://www.museucoracoralina.com.br/site/programacao2/serenata-2025-5/
END:VEVENT
BEGIN:VEVENT
DTSTART;TZID=UTC:20251011T213000
DTEND;TZID=UTC:20251011T213000
DTSTAMP:20260421T205813
CREATED:20250519T141315Z
LAST-MODIFIED:20250519T141547Z
UID:912-1760218200-1760218200@www.museucoracoralina.com.br
SUMMARY:Serenata 2025
DESCRIPTION:Depois de muitos pedidos\, aqui está o calendário anual das serenatas de 2025! Se programem e participem conosco. A serenata é de idealização do Museu Casa de Cora Coralina e conta com o apoio do Instituto Biap; Santuário do Rosário; PatriMônio: cultura e ambiente; Rádio Nova Fogaréu; Venerável Irmandade do Senhor Bom Jesus dos Passos e Organização Vilaboense de Artes e Tradições – OVAT. \nCuradoria da serenata: @marlene_vellasco\nFoto: @patmousinho\nDesign artístico: @patmousinho
URL:https://www.museucoracoralina.com.br/site/programacao2/serenata-2025-6/
END:VEVENT
BEGIN:VEVENT
DTSTART;TZID=UTC:20251108T213000
DTEND;TZID=UTC:20251108T213000
DTSTAMP:20260421T205813
CREATED:20250519T141336Z
LAST-MODIFIED:20250519T141552Z
UID:913-1762637400-1762637400@www.museucoracoralina.com.br
SUMMARY:Serenata 2025
DESCRIPTION:Depois de muitos pedidos\, aqui está o calendário anual das serenatas de 2025! Se programem e participem conosco. A serenata é de idealização do Museu Casa de Cora Coralina e conta com o apoio do Instituto Biap; Santuário do Rosário; PatriMônio: cultura e ambiente; Rádio Nova Fogaréu; Venerável Irmandade do Senhor Bom Jesus dos Passos e Organização Vilaboense de Artes e Tradições – OVAT. \nCuradoria da serenata: @marlene_vellasco\nFoto: @patmousinho\nDesign artístico: @patmousinho
URL:https://www.museucoracoralina.com.br/site/programacao2/serenata-2025-7/
END:VEVENT
BEGIN:VEVENT
DTSTART;TZID=UTC:20251206T213000
DTEND;TZID=UTC:20251206T213000
DTSTAMP:20260421T205813
CREATED:20250519T141420Z
LAST-MODIFIED:20250519T141555Z
UID:917-1765056600-1765056600@www.museucoracoralina.com.br
SUMMARY:Serenata 2025
DESCRIPTION:Depois de muitos pedidos\, aqui está o calendário anual das serenatas de 2025! Se programem e participem conosco. A serenata é de idealização do Museu Casa de Cora Coralina e conta com o apoio do Instituto Biap; Santuário do Rosário; PatriMônio: cultura e ambiente; Rádio Nova Fogaréu; Venerável Irmandade do Senhor Bom Jesus dos Passos e Organização Vilaboense de Artes e Tradições – OVAT. \nCuradoria da serenata: @marlene_vellasco\nFoto: @patmousinho\nDesign artístico: @patmousinho
URL:https://www.museucoracoralina.com.br/site/programacao2/serenata-2025-8/
END:VEVENT
END:VCALENDAR