BEGIN:VCALENDAR
VERSION:2.0
PRODID:-//Museu CORA CORALINA - ECPv6.15.20//NONSGML v1.0//EN
CALSCALE:GREGORIAN
METHOD:PUBLISH
X-ORIGINAL-URL:https://www.museucoracoralina.com.br/site
X-WR-CALDESC:Events for Museu CORA CORALINA
REFRESH-INTERVAL;VALUE=DURATION:PT1H
X-Robots-Tag:noindex
X-PUBLISHED-TTL:PT1H
BEGIN:VTIMEZONE
TZID:UTC
BEGIN:STANDARD
TZOFFSETFROM:+0000
TZOFFSETTO:+0000
TZNAME:UTC
DTSTART:20240101T000000
END:STANDARD
END:VTIMEZONE
BEGIN:VEVENT
DTSTART;TZID=UTC:20251108T213000
DTEND;TZID=UTC:20251108T213000
DTSTAMP:20260422T002455
CREATED:20250519T141336Z
LAST-MODIFIED:20250519T141552Z
UID:913-1762637400-1762637400@www.museucoracoralina.com.br
SUMMARY:Serenata 2025
DESCRIPTION:Depois de muitos pedidos\, aqui está o calendário anual das serenatas de 2025! Se programem e participem conosco. A serenata é de idealização do Museu Casa de Cora Coralina e conta com o apoio do Instituto Biap; Santuário do Rosário; PatriMônio: cultura e ambiente; Rádio Nova Fogaréu; Venerável Irmandade do Senhor Bom Jesus dos Passos e Organização Vilaboense de Artes e Tradições – OVAT. \nCuradoria da serenata: @marlene_vellasco\nFoto: @patmousinho\nDesign artístico: @patmousinho
URL:https://www.museucoracoralina.com.br/site/programacao2/serenata-2025-7/
END:VEVENT
BEGIN:VEVENT
DTSTART;TZID=UTC:20251206T213000
DTEND;TZID=UTC:20251206T213000
DTSTAMP:20260422T002455
CREATED:20250519T141420Z
LAST-MODIFIED:20250519T141555Z
UID:917-1765056600-1765056600@www.museucoracoralina.com.br
SUMMARY:Serenata 2025
DESCRIPTION:Depois de muitos pedidos\, aqui está o calendário anual das serenatas de 2025! Se programem e participem conosco. A serenata é de idealização do Museu Casa de Cora Coralina e conta com o apoio do Instituto Biap; Santuário do Rosário; PatriMônio: cultura e ambiente; Rádio Nova Fogaréu; Venerável Irmandade do Senhor Bom Jesus dos Passos e Organização Vilaboense de Artes e Tradições – OVAT. \nCuradoria da serenata: @marlene_vellasco\nFoto: @patmousinho\nDesign artístico: @patmousinho
URL:https://www.museucoracoralina.com.br/site/programacao2/serenata-2025-8/
END:VEVENT
END:VCALENDAR